BEGIN:VCALENDAR
VERSION:2.0
PRODID:spatie/icalendar-generator
NAME:Travel Investor Day
X-WR-CALNAME:Travel Investor Day
BEGIN:VEVENT
UID:69e8b3ef26647
SUMMARY:Travel Investor Day
DTSTART;TZID=Europe/Rome:20260514T160000
DTEND;TZID=Europe/Rome:20260514T200000
DTSTAMP;TZID=UTC:20260422T114135
END:VEVENT
END:VCALENDAR