BEGIN:VCALENDAR
VERSION:2.0
PRODID:spatie/icalendar-generator
NAME:Agentic Enterprise: l’evoluzione del Business con Salesforce
X-WR-CALNAME:Agentic Enterprise: l’evoluzione del Business con Salesforce
BEGIN:VEVENT
UID:69e9d93936059
SUMMARY:Agentic Enterprise: l’evoluzione del Business con Salesforce
DTSTART;TZID=Europe/Rome:20260506T143000
DTEND;TZID=Europe/Rome:20260506T180000
DTSTAMP;TZID=UTC:20260423T083257
END:VEVENT
END:VCALENDAR