BEGIN:VCALENDAR
VERSION:2.0
PRODID:spatie/icalendar-generator
NAME:Essere scelti nell'Agentic Era: come diventare visibili\, credibili e 
 rilevanti per gli agenti AI
X-WR-CALNAME:Essere scelti nell'Agentic Era: come diventare visibili\, cred
 ibili e rilevanti per gli agenti AI
BEGIN:VEVENT
UID:69e659700ba02
SUMMARY:Essere scelti nell'Agentic Era: come diventare visibili\, credibili
  e rilevanti per gli agenti AI
DTSTART;TZID=Europe/Rome:20260513T090000
DTEND;TZID=Europe/Rome:20260513T110000
DTSTAMP;TZID=UTC:20260420T165056
END:VEVENT
END:VCALENDAR