BEGIN:VCALENDAR
VERSION:2.0
PRODID:spatie/icalendar-generator
NAME:Il governo del Cyber Risk: dalla gestione della sicurezza della filier
 a alla resilienza operativa\, con approcci concreti per la conformità NIS
 2
X-WR-CALNAME:Il governo del Cyber Risk: dalla gestione della sicurezza dell
 a filiera alla resilienza operativa\, con approcci concreti per la conform
 ità NIS2
BEGIN:VEVENT
UID:69e686eb067aa
SUMMARY:Il governo del Cyber Risk: dalla gestione della sicurezza della fil
 iera alla resilienza operativa\, con approcci concreti per la conformità 
 NIS2
DTSTART;TZID=Europe/Rome:20260427T103000
DTEND;TZID=Europe/Rome:20260528T130000
DTSTAMP;TZID=UTC:20260420T200459
END:VEVENT
END:VCALENDAR