BEGIN:VCALENDAR
VERSION:2.0
PRODID:spatie/icalendar-generator
NAME:Il governo del Cyber Risk: dalla gestione della sicurezza della filier
 a alla resilienza operativa\, con approcci concreti per la conformità NIS
 2
X-WR-CALNAME:Il governo del Cyber Risk: dalla gestione della sicurezza dell
 a filiera alla resilienza operativa\, con approcci concreti per la conform
 ità NIS2
BEGIN:VEVENT
UID:69e69e5740561
SUMMARY:Il governo del Cyber Risk: dalla gestione della sicurezza della fil
 iera alla resilienza operativa\, con approcci concreti per la conformità 
 NIS2
DTSTART;TZID=Europe/Rome:20260427T110000
DTEND;TZID=Europe/Rome:20260427T130000
DTSTAMP;TZID=UTC:20260420T214455
END:VEVENT
END:VCALENDAR