BEGIN:VCALENDAR
VERSION:2.0
PRODID:spatie/icalendar-generator
NAME:Real impact at real speed: agentic AI meets hyperautomation on Microso
 ft
X-WR-CALNAME:Real impact at real speed: agentic AI meets hyperautomation on
  Microsoft
BEGIN:VEVENT
UID:69ea03b47efa0
SUMMARY:Real impact at real speed: agentic AI meets hyperautomation on Micr
 osoft
DTSTART;TZID=Europe/Rome:20260427T120000
DTEND;TZID=Europe/Rome:20260427T133000
DTSTAMP;TZID=UTC:20260423T113412
END:VEVENT
END:VCALENDAR